{"text_format":"3","workbook":"xlsx","n_sheets":10,"sheets":["Sheet2","관리기관별","급경사지 등급별","급경사지 용도별","급경사지 구조별 현황","급경사지 유형별 현황","붕괴위험지역 정비사업 현황","붕괴위험지역 정비사업 대상","★전체","Sheet1"],"not_rendered":{"defined_names":9,"comments":1},"read":"whole","date_system":"1900"}

{"sheet":"Sheet2","index":0,"n_rows":24,"n_cols":14,"rows_kept":24,"hidden":true}
[]
["시도별","급경사지 현황",null,"2017.12기준","계","신규","시특법시설물 \n지정","규모미달","정비해소","개발공사로\n인한 해소","중복대상지 \n정정"]
["계",{"$f":"SUM(B4:B20)","v":{"$error":"#REF!"}},null,{"$f":"SUM(D4:D20)","v":{"v":14325,"d":"14,325"}},{"$f":"F3-G3-H3-I3-J3-K3","v":{"$error":"#REF!"}},{"$f":"SUM(F4:F20)","v":{"$error":"#REF!"}},{"$f":"SUM(G4:G20)","v":30},6,4,5,3,null,null,{"$f":"B4-D4","v":23}]
["서울",{"$f":"관리기관별!B5","v":844},null,821,{"$f":"F4-G4-H4-I4-J4-K4","v":0},{"$nulls":8},{"$f":"B5-D5","v":{"$error":"#REF!"}}]
["부산",{"$f":"관리기관별!B6","v":{"$error":"#REF!"}},"완료",701,-2,22,11,5,null,5,3,null,null,{"$error":"#REF!"}]
["대구",{"$f":"관리기관별!B7","v":{"$error":"#REF!"}},null,196,-15,4,19,{"$nulls":6},{"$error":"#REF!"}]
["인천",{"$f":"관리기관별!B8","v":{"$error":"#REF!"}},"완료",248,-3,2,null,1,4,{"$nulls":4},{"$error":"#REF!"}]
["광주",{"$f":"관리기관별!B9","v":{"$error":"#REF!"}},null,143,0,{"$nulls":8},{"$error":"#REF!"}]
["대전",{"$f":"관리기관별!B10","v":{"$error":"#REF!"}},null,211,0,{"$nulls":8},{"$error":"#REF!"}]
["울산",{"$f":"관리기관별!B11","v":{"$error":"#REF!"}},"완료",389,67,{"$f":"456-389","v":67},{"$nulls":7},{"$error":"#REF!"}]
["세종",{"$f":"관리기관별!B12","v":{"$error":"#REF!"}},null,66,1,1,{"$nulls":5},"시스템 확인사항",null,{"$error":"#REF!"}]
["경기",{"$f":"관리기관별!B13","v":{"$error":"#REF!"}},"완료",887,{"$error":"#REF!"},{"$f":"B12-D12","v":{"$error":"#REF!"}},{"$nulls":7},{"$error":"#REF!"}]
["강원",{"$f":"관리기관별!B14","v":{"$error":"#REF!"}},null,{"v":2327,"d":"2,327"},0,{"$nulls":8},{"$error":"#REF!"}]
["충북",{"$f":"관리기관별!B15","v":{"$error":"#REF!"}},null,{"v":1283,"d":"1,283"},0,{"$nulls":8},{"$error":"#REF!"}]
["충남",{"$f":"관리기관별!B16","v":{"$error":"#REF!"}},"완료",314,{"$error":"#REF!"},{"$f":"B15-D15","v":{"$error":"#REF!"}},{"$nulls":7},{"$error":"#REF!"}]
["전북",{"$f":"관리기관별!B17","v":{"$error":"#REF!"}},null,{"v":1155,"d":"1,155"},0,{"$nulls":8},{"$error":"#REF!"}]
["전남",{"$f":"관리기관별!B18","v":{"$error":"#REF!"}},null,{"v":1296,"d":"1,296"},0,{"$nulls":8},{"$error":"#REF!"}]
["경북",{"$f":"관리기관별!B19","v":{"$error":"#REF!"}},null,{"v":1179,"d":"1,179"},0,{"$nulls":6},{"$f":"D18-B18","v":{"$error":"#REF!"}},null,{"$error":"#REF!"}]
["경남",{"$f":"관리기관별!B20","v":{"$error":"#REF!"}},null,{"v":3068,"d":"3,068"},0,{"$nulls":8},-4]
["제주",{"$f":"관리기관별!B21","v":37},null,41,0,{"$nulls":8},0]
[]
[]
[]
[{"$nulls":3},{"$f":"1149-1155","v":-6}]

{"sheet":"관리기관별","index":1,"n_rows":21,"n_cols":16383,"rows_kept":21,"hidden":true,"merged":[[0,0,1,9]]}
["급경사지 관리기관별 현황('18. 12월말 기준)"]
[]
["시도","계","지자체","지방산림청","한국\n농어촌공사","한국토지\n주택공사","한국철도\n시설공단","도시\n철도공사","국립공원\n관리공단","기타\n(개인,기업,공공기관)"]
["총계",{"$f":"SUM(B5:B21)","v":{"$error":"#REF!"}},{"$f":"SUM(C5:C21)","v":{"v":10383,"d":"10,383"}},{"$error":"#REF!"},{"$f":"SUM(E5:E21)","v":{"$error":"#REF!"}},{"$error":"#REF!"},{"$error":"#REF!"},{"$error":"#REF!"},{"$error":"#REF!"},{"v":1798,"d":"1,798"}]
["서울",{"$f":"SUM(C5:J5)","v":844},809,{"$f":"COUNTIF(★전체!$M$7:$M$8,\"지방산림청\")","v":0},{"$f":"COUNTIF(★전체!$M$7:$M$8,\"한국농어촌공사\")","v":0},{"$f":"COUNTIF(★전체!$M$7:$M$8,\"한국토지주택공사\")","v":0},{"$f":"COUNTIF(★전체!$M$7:$M$8,\"한국철도시설공단\")","v":0},{"$f":"COUNTIF(★전체!$M$7:$M$8,\"도시철도공사\")","v":0},{"$f":"COUNTIF(★전체!$M$7:$M$8,\"국립공원관리공단\")","v":0},35,"완료"]
["부산",{"$f":"SUM(C6:J6)","v":{"$error":"#REF!"}},342,{"$f":"COUNTIF(★전체!#REF!,\"지방산림청\")","v":{"$error":"#REF!"}},{"$f":"COUNTIF(★전체!#REF!,\"한국농어촌공사\")","v":{"$error":"#REF!"}},{"$f":"COUNTIF(★전체!#REF!,\"한국토지주택공사\")","v":{"$error":"#REF!"}},{"$f":"COUNTIF(★전체!#REF!,\"한국철도시설공단\")","v":{"$error":"#REF!"}},{"$f":"COUNTIF(★전체!#REF!,\"도시철도공사\")","v":{"$error":"#REF!"}},{"$f":"COUNTIF(★전체!#REF!,\"국립공원관리공단\")","v":{"$error":"#REF!"}},306,"최종완료"]
["대구",{"$f":"SUM(C7:J7)","v":{"$error":"#REF!"}},83,{"$f":"COUNTIF(★전체!#REF!,\"지방산림청\")","v":{"$error":"#REF!"}},{"$f":"COUNTIF(★전체!#REF!,\"한국농어촌공사\")","v":{"$error":"#REF!"}},{"$f":"COUNTIF(★전체!#REF!,\"한국토지주택공사\")","v":{"$error":"#REF!"}},{"$f":"COUNTIF(★전체!#REF!,\"한국철도시설공단\")","v":{"$error":"#REF!"}},{"$f":"COUNTIF(★전체!#REF!,\"도시철도공사\")","v":{"$error":"#REF!"}},{"$f":"COUNTIF(★전체!#REF!,\"국립공원관리공단\")","v":{"$error":"#REF!"}},77,"최종완료"]
["인천",{"$f":"SUM(C8:J8)","v":{"$error":"#REF!"}},82,{"$f":"COUNTIF(★전체!#REF!,\"지방산림청\")","v":{"$error":"#REF!"}},{"$f":"COUNTIF(★전체!#REF!,\"한국농어촌공사\")","v":{"$error":"#REF!"}},{"$f":"COUNTIF(★전체!#REF!,\"한국토지주택공사\")","v":{"$error":"#REF!"}},{"$f":"COUNTIF(★전체!#REF!,\"한국철도시설공단\")","v":{"$error":"#REF!"}},{"$f":"COUNTIF(★전체!#REF!,\"도시철도공사\")","v":{"$error":"#REF!"}},{"$f":"COUNTIF(★전체!#REF!,\"국립공원관리공단\")","v":{"$error":"#REF!"}},159,"최종완료"]
["광주",{"$f":"SUM(C9:J9)","v":{"$error":"#REF!"}},67,{"$f":"COUNTIF(★전체!#REF!,\"지방산림청\")","v":{"$error":"#REF!"}},{"$f":"COUNTIF(★전체!#REF!,\"한국농어촌공사\")","v":{"$error":"#REF!"}},{"$f":"COUNTIF(★전체!#REF!,\"한국토지주택공사\")","v":{"$error":"#REF!"}},{"$f":"COUNTIF(★전체!#REF!,\"한국철도시설공단\")","v":{"$error":"#REF!"}},{"$f":"COUNTIF(★전체!#REF!,\"도시철도공사\")","v":{"$error":"#REF!"}},{"$f":"COUNTIF(★전체!#REF!,\"국립공원관리공단\")","v":{"$error":"#REF!"}},55,"최종완료"]
["대전",{"$f":"SUM(C10:J10)","v":{"$error":"#REF!"}},123,{"$f":"COUNTIF(★전체!#REF!,\"지방산림청\")","v":{"$error":"#REF!"}},{"$f":"COUNTIF(★전체!#REF!,\"한국농어촌공사\")","v":{"$error":"#REF!"}},{"$f":"COUNTIF(★전체!#REF!,\"한국토지주택공사\")","v":{"$error":"#REF!"}},{"$f":"COUNTIF(★전체!#REF!,\"한국철도시설공단\")","v":{"$error":"#REF!"}},{"$f":"COUNTIF(★전체!#REF!,\"도시철도공사\")","v":{"$error":"#REF!"}},{"$f":"COUNTIF(★전체!#REF!,\"국립공원관리공단\")","v":{"$error":"#REF!"}},26,"최종완료"]
["울산",{"$f":"SUM(C11:J11)","v":{"$error":"#REF!"}},281,{"$f":"COUNTIF(★전체!#REF!,\"지방산림청\")","v":{"$error":"#REF!"}},{"$f":"COUNTIF(★전체!#REF!,\"한국농어촌공사\")","v":{"$error":"#REF!"}},{"$f":"COUNTIF(★전체!#REF!,\"한국토지주택공사\")","v":{"$error":"#REF!"}},{"$f":"COUNTIF(★전체!#REF!,\"한국철도시설공단\")","v":{"$error":"#REF!"}},{"$f":"COUNTIF(★전체!#REF!,\"도시철도공사\")","v":{"$error":"#REF!"}},{"$f":"COUNTIF(★전체!#REF!,\"국립공원관리공단\")","v":{"$error":"#REF!"}},27,"완료"]
["세종",{"$error":"#REF!"},52,{"$f":"COUNTIF(★전체!#REF!,\"지방산림청\")","v":{"$error":"#REF!"}},{"$f":"COUNTIF(★전체!#REF!,\"한국농어촌공사\")","v":{"$error":"#REF!"}},{"$f":"COUNTIF(★전체!#REF!,\"한국토지주택공사\")","v":{"$error":"#REF!"}},{"$f":"COUNTIF(★전체!#REF!,\"한국철도시설공단\")","v":{"$error":"#REF!"}},{"$f":"COUNTIF(★전체!#REF!,\"도시철도공사\")","v":{"$error":"#REF!"}},{"$f":"COUNTIF(★전체!#REF!,\"국립공원관리공단\")","v":{"$error":"#REF!"}},7,"완료"]
["경기",{"$error":"#REF!"},502,{"$f":"COUNTIF(★전체!#REF!,\"지방산림청\")","v":{"$error":"#REF!"}},{"$f":"COUNTIF(★전체!#REF!,\"한국농어촌공사\")","v":{"$error":"#REF!"}},{"$f":"COUNTIF(★전체!#REF!,\"한국토지주택공사\")","v":{"$error":"#REF!"}},{"$f":"COUNTIF(★전체!#REF!,\"한국철도시설공단\")","v":{"$error":"#REF!"}},{"$f":"COUNTIF(★전체!#REF!,\"도시철도공사\")","v":{"$error":"#REF!"}},{"$f":"COUNTIF(★전체!#REF!,\"국립공원관리공단\")","v":{"$error":"#REF!"}},373,"최종완료"]
["강원",{"$error":"#REF!"},{"v":1880,"d":"1,880"},{"$f":"COUNTIF(★전체!#REF!,\"지방산림청\")","v":{"$error":"#REF!"}},{"$f":"COUNTIF(★전체!#REF!,\"한국농어촌공사\")","v":{"$error":"#REF!"}},{"$f":"COUNTIF(★전체!#REF!,\"한국토지주택공사\")","v":{"$error":"#REF!"}},{"$f":"COUNTIF(★전체!#REF!,\"한국철도시설공단\")","v":{"$error":"#REF!"}},{"$f":"COUNTIF(★전체!#REF!,\"도시철도공사\")","v":{"$error":"#REF!"}},{"$f":"COUNTIF(★전체!#REF!,\"국립공원관리공단\")","v":{"$error":"#REF!"}},115]
["충북",{"$error":"#REF!"},953,{"$f":"COUNTIF(★전체!#REF!,\"지방산림청\")","v":{"$error":"#REF!"}},{"$f":"COUNTIF(★전체!#REF!,\"한국농어촌공사\")","v":{"$error":"#REF!"}},{"$f":"COUNTIF(★전체!#REF!,\"한국토지주택공사\")","v":{"$error":"#REF!"}},{"$f":"COUNTIF(★전체!#REF!,\"한국철도시설공단\")","v":{"$error":"#REF!"}},{"$f":"COUNTIF(★전체!#REF!,\"도시철도공사\")","v":{"$error":"#REF!"}},{"$f":"COUNTIF(★전체!#REF!,\"국립공원관리공단\")","v":{"$error":"#REF!"}},249,"최종완료"]
["충남",{"$error":"#REF!"},199,{"$f":"COUNTIF(★전체!#REF!,\"지방산림청\")","v":{"$error":"#REF!"}},{"$f":"COUNTIF(★전체!#REF!,\"한국농어촌공사\")","v":{"$error":"#REF!"}},{"$f":"COUNTIF(★전체!#REF!,\"한국토지주택공사\")","v":{"$error":"#REF!"}},{"$f":"COUNTIF(★전체!#REF!,\"한국철도시설공단\")","v":{"$error":"#REF!"}},{"$f":"COUNTIF(★전체!#REF!,\"도시철도공사\")","v":{"$error":"#REF!"}},{"$f":"COUNTIF(★전체!#REF!,\"국립공원관리공단\")","v":{"$error":"#REF!"}},39]
["전북",{"$error":"#REF!"},972,{"$f":"COUNTIF(★전체!#REF!,\"지방산림청\")","v":{"$error":"#REF!"}},{"$f":"COUNTIF(★전체!#REF!,\"한국농어촌공사\")","v":{"$error":"#REF!"}},{"$f":"COUNTIF(★전체!#REF!,\"한국토지주택공사\")","v":{"$error":"#REF!"}},{"$f":"COUNTIF(★전체!#REF!,\"한국철도시설공단\")","v":{"$error":"#REF!"}},{"$f":"COUNTIF(★전체!#REF!,\"도시철도공사\")","v":{"$error":"#REF!"}},{"$f":"COUNTIF(★전체!#REF!,\"국립공원관리공단\")","v":{"$error":"#REF!"}},95,{"$nulls":16372},{"$f":"COUNTIF(★전체!#REF!,\"지방산림청\")","v":{"$error":"#REF!"}}]
["전남",{"$error":"#REF!"},832,{"$f":"COUNTIF(★전체!#REF!,\"지방산림청\")","v":{"$error":"#REF!"}},{"$f":"COUNTIF(★전체!#REF!,\"한국농어촌공사\")","v":{"$error":"#REF!"}},{"$f":"COUNTIF(★전체!#REF!,\"한국토지주택공사\")","v":{"$error":"#REF!"}},{"$f":"COUNTIF(★전체!#REF!,\"한국철도시설공단\")","v":{"$error":"#REF!"}},{"$f":"COUNTIF(★전체!#REF!,\"도시철도공사\")","v":{"$error":"#REF!"}},{"$f":"COUNTIF(★전체!#REF!,\"국립공원관리공단\")","v":{"$error":"#REF!"}},62]
["경북",{"$error":"#REF!"},995,{"$f":"COUNTIF(★전체!#REF!,\"지방산림청\")","v":{"$error":"#REF!"}},{"$f":"COUNTIF(★전체!#REF!,\"한국농어촌공사\")","v":{"$error":"#REF!"}},{"$f":"COUNTIF(★전체!#REF!,\"한국토지주택공사\")","v":{"$error":"#REF!"}},{"$f":"COUNTIF(★전체!#REF!,\"한국철도시설공단\")","v":{"$error":"#REF!"}},{"$f":"COUNTIF(★전체!#REF!,\"도시철도공사\")","v":{"$error":"#REF!"}},{"$f":"COUNTIF(★전체!#REF!,\"국립공원관리공단\")","v":{"$error":"#REF!"}},21,"최종완료"]
["경남",{"$error":"#REF!"},{"v":2174,"d":"2,174"},{"$f":"COUNTIF(★전체!#REF!,\"지방산림청\")","v":{"$error":"#REF!"}},{"$f":"COUNTIF(★전체!#REF!,\"한국농어촌공사\")","v":{"$error":"#REF!"}},{"$f":"COUNTIF(★전체!#REF!,\"한국토지주택공사\")","v":{"$error":"#REF!"}},{"$f":"COUNTIF(★전체!#REF!,\"한국철도시설공단\")","v":{"$error":"#REF!"}},{"$f":"COUNTIF(★전체!#REF!,\"도시철도공사\")","v":{"$error":"#REF!"}},{"$f":"COUNTIF(★전체!#REF!,\"국립공원관리공단\")","v":{"$error":"#REF!"}},152,"최종완료"]
["제주",37,37,0,0,0,0,0,0,0,"최종완료"]

{"sheet":"급경사지 등급별","index":2,"n_rows":22,"n_cols":16381,"rows_kept":22,"hidden":true,"merged":[[0,0,1,7]]}
["급경사지 등급별 현황('18. 12월말 기준)"]
[]
[{"$nulls":7},"(단위 : 개소)"]
["시도","계","A","B","C","D","E","비고"]
["총계",{"$f":"SUM(B6:B22)","v":{"$error":"#REF!"}},{"$f":"SUM(C6:C22)","v":{"$error":"#REF!"}},{"$error":"#REF!"},{"$error":"#REF!"},{"$error":"#REF!"},{"$error":"#REF!"},0]
["서울",{"$f":"SUM(C6:H6)","v":{"$error":"#REF!"}},{"$f":"COUNTIF(★전체!#REF!,\"A\")","v":{"$error":"#REF!"}},{"$f":"COUNTIF(★전체!#REF!,\"B\")","v":{"$error":"#REF!"}},{"$f":"COUNTIF(★전체!#REF!,\"C\")","v":{"$error":"#REF!"}},{"$f":"COUNTIF(★전체!#REF!,\"D\")","v":{"$error":"#REF!"}},{"$f":"COUNTIF(★전체!#REF!,\"E\")","v":{"$error":"#REF!"}}]
["부산",{"$error":"#REF!"},{"$f":"COUNTIF(★전체!#REF!,\"A\")","v":{"$error":"#REF!"}},{"$f":"COUNTIF(★전체!#REF!,\"B\")","v":{"$error":"#REF!"}},{"$f":"COUNTIF(★전체!#REF!,\"C\")","v":{"$error":"#REF!"}},{"$f":"COUNTIF(★전체!#REF!,\"D\")","v":{"$error":"#REF!"}},{"$f":"COUNTIF(★전체!#REF!,\"E\")","v":{"$error":"#REF!"}}]
["대구",{"$error":"#REF!"},{"$f":"COUNTIF(★전체!#REF!,\"A\")","v":{"$error":"#REF!"}},{"$f":"COUNTIF(★전체!#REF!,\"B\")","v":{"$error":"#REF!"}},{"$f":"COUNTIF(★전체!#REF!,\"C\")","v":{"$error":"#REF!"}},{"$f":"COUNTIF(★전체!#REF!,\"D\")","v":{"$error":"#REF!"}},{"$f":"COUNTIF(★전체!#REF!,\"E\")","v":{"$error":"#REF!"}}]
["인천",{"$error":"#REF!"},{"$f":"COUNTIF(★전체!#REF!,\"A\")","v":{"$error":"#REF!"}},{"$f":"COUNTIF(★전체!#REF!,\"B\")","v":{"$error":"#REF!"}},{"$f":"COUNTIF(★전체!#REF!,\"C\")","v":{"$error":"#REF!"}},{"$f":"COUNTIF(★전체!#REF!,\"D\")","v":{"$error":"#REF!"}},{"$f":"COUNTIF(★전체!#REF!,\"E\")","v":{"$error":"#REF!"}}]
["광주",{"$error":"#REF!"},{"$f":"COUNTIF(★전체!#REF!,\"A\")","v":{"$error":"#REF!"}},{"$f":"COUNTIF(★전체!#REF!,\"B\")","v":{"$error":"#REF!"}},{"$f":"COUNTIF(★전체!#REF!,\"C\")","v":{"$error":"#REF!"}},{"$f":"COUNTIF(★전체!#REF!,\"D\")","v":{"$error":"#REF!"}},{"$f":"COUNTIF(★전체!#REF!,\"E\")","v":{"$error":"#REF!"}}]
["대전",{"$error":"#REF!"},{"$f":"COUNTIF(★전체!#REF!,\"A\")","v":{"$error":"#REF!"}},{"$f":"COUNTIF(★전체!#REF!,\"B\")","v":{"$error":"#REF!"}},{"$f":"COUNTIF(★전체!#REF!,\"C\")","v":{"$error":"#REF!"}},{"$f":"COUNTIF(★전체!#REF!,\"D\")","v":{"$error":"#REF!"}},{"$f":"COUNTIF(★전체!#REF!,\"E\")","v":{"$error":"#REF!"}}]
["울산",{"$error":"#REF!"},{"$f":"COUNTIF(★전체!#REF!,\"A\")","v":{"$error":"#REF!"}},{"$f":"COUNTIF(★전체!#REF!,\"B\")","v":{"$error":"#REF!"}},{"$f":"COUNTIF(★전체!#REF!,\"C\")","v":{"$error":"#REF!"}},{"$f":"COUNTIF(★전체!#REF!,\"D\")","v":{"$error":"#REF!"}},{"$f":"COUNTIF(★전체!#REF!,\"E\")","v":{"$error":"#REF!"}}]
["세종",{"$error":"#REF!"},{"$f":"COUNTIF(★전체!#REF!,\"A\")","v":{"$error":"#REF!"}},{"$f":"COUNTIF(★전체!#REF!,\"B\")","v":{"$error":"#REF!"}},{"$f":"COUNTIF(★전체!#REF!,\"C\")","v":{"$error":"#REF!"}},{"$f":"COUNTIF(★전체!#REF!,\"D\")","v":{"$error":"#REF!"}},{"$f":"COUNTIF(★전체!#REF!,\"E\")","v":{"$error":"#REF!"}}]
["경기",{"$error":"#REF!"},{"$f":"COUNTIF(★전체!#REF!,\"A\")","v":{"$error":"#REF!"}},{"$f":"COUNTIF(★전체!#REF!,\"B\")","v":{"$error":"#REF!"}},{"$f":"COUNTIF(★전체!#REF!,\"C\")","v":{"$error":"#REF!"}},{"$f":"COUNTIF(★전체!#REF!,\"D\")","v":{"$error":"#REF!"}},{"$f":"COUNTIF(★전체!#REF!,\"E\")","v":{"$error":"#REF!"}}]
["강원",{"$error":"#REF!"},{"$f":"COUNTIF(★전체!#REF!,\"A\")","v":{"$error":"#REF!"}},{"$f":"COUNTIF(★전체!#REF!,\"B\")","v":{"$error":"#REF!"}},{"$f":"COUNTIF(★전체!#REF!,\"C\")","v":{"$error":"#REF!"}},{"$f":"COUNTIF(★전체!#REF!,\"D\")","v":{"$error":"#REF!"}},{"$f":"COUNTIF(★전체!#REF!,\"E\")","v":{"$error":"#REF!"}}]
["충북",{"$error":"#REF!"},{"$f":"COUNTIF(★전체!#REF!,\"A\")","v":{"$error":"#REF!"}},{"$f":"COUNTIF(★전체!#REF!,\"B\")","v":{"$error":"#REF!"}},{"$f":"COUNTIF(★전체!#REF!,\"C\")","v":{"$error":"#REF!"}},{"$f":"COUNTIF(★전체!#REF!,\"D\")","v":{"$error":"#REF!"}},{"$f":"COUNTIF(★전체!#REF!,\"E\")","v":{"$error":"#REF!"}}]
["충남",{"$error":"#REF!"},{"$f":"COUNTIF(★전체!#REF!,\"A\")","v":{"$error":"#REF!"}},{"$f":"COUNTIF(★전체!#REF!,\"B\")","v":{"$error":"#REF!"}},{"$f":"COUNTIF(★전체!#REF!,\"C\")","v":{"$error":"#REF!"}},{"$f":"COUNTIF(★전체!#REF!,\"D\")","v":{"$error":"#REF!"}},{"$f":"COUNTIF(★전체!#REF!,\"E\")","v":{"$error":"#REF!"}}]
["전북",{"$error":"#REF!"},{"$f":"COUNTIF(★전체!#REF!,\"A\")","v":{"$error":"#REF!"}},{"$f":"COUNTIF(★전체!#REF!,\"B\")","v":{"$error":"#REF!"}},{"$f":"COUNTIF(★전체!#REF!,\"C\")","v":{"$error":"#REF!"}},{"$f":"COUNTIF(★전체!#REF!,\"D\")","v":{"$error":"#REF!"}},{"$f":"COUNTIF(★전체!#REF!,\"E\")","v":{"$error":"#REF!"}},{"$nulls":16373},{"$f":"COUNTIF(★전체!#REF!,\"지방산림청\")","v":{"$error":"#REF!"}}]
["전남",{"$error":"#REF!"},{"$f":"COUNTIF(★전체!#REF!,\"A\")","v":{"$error":"#REF!"}},{"$f":"COUNTIF(★전체!#REF!,\"B\")","v":{"$error":"#REF!"}},{"$f":"COUNTIF(★전체!#REF!,\"C\")","v":{"$error":"#REF!"}},{"$f":"COUNTIF(★전체!#REF!,\"D\")","v":{"$error":"#REF!"}},{"$f":"COUNTIF(★전체!#REF!,\"E\")","v":{"$error":"#REF!"}}]
["경북",{"$error":"#REF!"},{"$f":"COUNTIF(★전체!#REF!,\"A\")","v":{"$error":"#REF!"}},767,{"$f":"COUNTIF(★전체!#REF!,\"C\")","v":{"$error":"#REF!"}},{"$f":"COUNTIF(★전체!#REF!,\"D\")","v":{"$error":"#REF!"}},{"$f":"COUNTIF(★전체!#REF!,\"E\")","v":{"$error":"#REF!"}}]
["경남",{"$error":"#REF!"},{"$f":"COUNTIF(★전체!#REF!,\"A\")","v":{"$error":"#REF!"}},{"$f":"COUNTIF(★전체!#REF!,\"B\")","v":{"$error":"#REF!"}},{"$f":"COUNTIF(★전체!#REF!,\"C\")","v":{"$error":"#REF!"}},{"$f":"COUNTIF(★전체!#REF!,\"D\")","v":{"$error":"#REF!"}},{"$f":"COUNTIF(★전체!#REF!,\"E\")","v":{"$error":"#REF!"}}]
["제주",{"$error":"#REF!"},{"$f":"COUNTIF(★전체!#REF!,\"A\")","v":{"$error":"#REF!"}},{"$f":"COUNTIF(★전체!#REF!,\"b\")","v":{"$error":"#REF!"}},{"$f":"COUNTIF(★전체!#REF!,\"C\")","v":{"$error":"#REF!"}},{"$f":"COUNTIF(★전체!#REF!,\"D\")","v":{"$error":"#REF!"}},{"$f":"COUNTIF(★전체!#REF!,\"E\")","v":{"$error":"#REF!"}}]

{"sheet":"급경사지 용도별","index":3,"n_rows":21,"n_cols":16383,"rows_kept":21,"hidden":true,"merged":[[0,0,1,9]]}
["급경사지 관리기관별 현황('18. 12월말 기준)"]
[]
["시도","계","도로","아파트","주택","공단","공원","철도","기타","비고"]
["총계",{"$f":"SUM(B5:B21)","v":{"$error":"#REF!"}},{"$f":"SUM(C5:C21)","v":{"$error":"#REF!"}},{"$error":"#REF!"},{"$error":"#REF!"},{"$error":"#REF!"},{"$error":"#REF!"},{"$error":"#REF!"},{"$f":"SUM(I5:I21)","v":{"$error":"#REF!"}}]
["서울",{"$f":"SUM(C5:J5)","v":2},{"$f":"COUNTIF(★전체!$G$7:$G$8,\"도로(지,군,비)\")","v":0},{"$f":"COUNTIF(★전체!$G$7:$G$8,\"아파트\")","v":0},{"$f":"COUNTIF(★전체!$G$7:$G$8,\"주택\")","v":0},{"$f":"COUNTIF(★전체!$G$7:$G$8,\"공단\")","v":0},{"$f":"COUNTIF(★전체!$G$7:$G$8,\"공원\")","v":2},{"$f":"COUNTIF(★전체!$G$7:$G$8,\"철도\")","v":0},{"$f":"COUNTIF(★전체!$G$7:$G$8,\"기타\")","v":0}]
["부산",{"$error":"#REF!"},{"$f":"COUNTIF(★전체!#REF!,\"도로\")","v":{"$error":"#REF!"}},{"$f":"COUNTIF(★전체!#REF!,\"아파트\")","v":{"$error":"#REF!"}},{"$f":"COUNTIF(★전체!#REF!,\"주택\")","v":{"$error":"#REF!"}},{"$f":"COUNTIF(★전체!#REF!,\"공단\")","v":{"$error":"#REF!"}},{"$f":"COUNTIF(★전체!#REF!,\"공원\")","v":{"$error":"#REF!"}},{"$f":"COUNTIF(★전체!#REF!,\"철도\")","v":{"$error":"#REF!"}},{"$f":"COUNTIF(★전체!#REF!,\"기타\")","v":{"$error":"#REF!"}}]
["대구",{"$error":"#REF!"},{"$f":"COUNTIF(★전체!#REF!,\"도로\")","v":{"$error":"#REF!"}},{"$f":"COUNTIF(★전체!#REF!,\"아파트\")","v":{"$error":"#REF!"}},{"$f":"COUNTIF(★전체!#REF!,\"주택\")","v":{"$error":"#REF!"}},{"$f":"COUNTIF(★전체!#REF!,\"공단\")","v":{"$error":"#REF!"}},{"$f":"COUNTIF(★전체!#REF!,\"공원\")","v":{"$error":"#REF!"}},{"$f":"COUNTIF(★전체!#REF!,\"철도\")","v":{"$error":"#REF!"}},{"$f":"COUNTIF(★전체!#REF!,\"기타\")","v":{"$error":"#REF!"}}]
["인천",{"$error":"#REF!"},{"$f":"COUNTIF(★전체!#REF!,\"도로\")","v":{"$error":"#REF!"}},{"$f":"COUNTIF(★전체!#REF!,\"아파트\")","v":{"$error":"#REF!"}},{"$f":"COUNTIF(★전체!#REF!,\"주택\")","v":{"$error":"#REF!"}},{"$f":"COUNTIF(★전체!#REF!,\"공단\")","v":{"$error":"#REF!"}},{"$f":"COUNTIF(★전체!#REF!,\"공원\")","v":{"$error":"#REF!"}},{"$f":"COUNTIF(★전체!#REF!,\"철도\")","v":{"$error":"#REF!"}},{"$f":"COUNTIF(★전체!#REF!,\"기타\")","v":{"$error":"#REF!"}}]
["광주",{"$error":"#REF!"},{"$f":"COUNTIF(★전체!#REF!,\"도로\")","v":{"$error":"#REF!"}},{"$f":"COUNTIF(★전체!#REF!,\"아파트\")","v":{"$error":"#REF!"}},{"$f":"COUNTIF(★전체!#REF!,\"주택\")","v":{"$error":"#REF!"}},{"$f":"COUNTIF(★전체!#REF!,\"공단\")","v":{"$error":"#REF!"}},{"$f":"COUNTIF(★전체!#REF!,\"공원\")","v":{"$error":"#REF!"}},{"$f":"COUNTIF(★전체!#REF!,\"철도\")","v":{"$error":"#REF!"}},{"$f":"COUNTIF(★전체!#REF!,\"기타\")","v":{"$error":"#REF!"}}]
["대전",{"$error":"#REF!"},{"$f":"COUNTIF(★전체!#REF!,\"도로\")","v":{"$error":"#REF!"}},{"$f":"COUNTIF(★전체!#REF!,\"아파트\")","v":{"$error":"#REF!"}},{"$f":"COUNTIF(★전체!#REF!,\"주택\")","v":{"$error":"#REF!"}},{"$f":"COUNTIF(★전체!#REF!,\"공단\")","v":{"$error":"#REF!"}},{"$f":"COUNTIF(★전체!#REF!,\"공원\")","v":{"$error":"#REF!"}},{"$f":"COUNTIF(★전체!#REF!,\"철도\")","v":{"$error":"#REF!"}},{"$f":"COUNTIF(★전체!#REF!,\"기타\")","v":{"$error":"#REF!"}}]
["울산",{"$error":"#REF!"},{"$f":"COUNTIF(★전체!#REF!,\"도로\")","v":{"$error":"#REF!"}},{"$f":"COUNTIF(★전체!#REF!,\"아파트\")","v":{"$error":"#REF!"}},{"$f":"COUNTIF(★전체!#REF!,\"주택\")","v":{"$error":"#REF!"}},{"$f":"COUNTIF(★전체!#REF!,\"공단\")","v":{"$error":"#REF!"}},{"$f":"COUNTIF(★전체!#REF!,\"공원\")","v":{"$error":"#REF!"}},{"$f":"COUNTIF(★전체!#REF!,\"철도\")","v":{"$error":"#REF!"}},{"$f":"COUNTIF(★전체!#REF!,\"기타\")","v":{"$error":"#REF!"}}]
["세종",{"$error":"#REF!"},{"$f":"COUNTIF(★전체!#REF!,\"도로\")","v":{"$error":"#REF!"}},{"$f":"COUNTIF(★전체!#REF!,\"아파트\")","v":{"$error":"#REF!"}},{"$f":"COUNTIF(★전체!#REF!,\"주택\")","v":{"$error":"#REF!"}},{"$f":"COUNTIF(★전체!#REF!,\"공단\")","v":{"$error":"#REF!"}},{"$f":"COUNTIF(★전체!#REF!,\"공원\")","v":{"$error":"#REF!"}},{"$f":"COUNTIF(★전체!#REF!,\"철도\")","v":{"$error":"#REF!"}},{"$f":"COUNTIF(★전체!#REF!,\"기타\")","v":{"$error":"#REF!"}}]
["경기",{"$error":"#REF!"},{"$f":"COUNTIF(★전체!#REF!,\"도로\")","v":{"$error":"#REF!"}},{"$f":"COUNTIF(★전체!#REF!,\"아파트\")","v":{"$error":"#REF!"}},{"$f":"COUNTIF(★전체!#REF!,\"주택\")","v":{"$error":"#REF!"}},{"$f":"COUNTIF(★전체!#REF!,\"공단\")","v":{"$error":"#REF!"}},{"$f":"COUNTIF(★전체!#REF!,\"공원\")","v":{"$error":"#REF!"}},{"$f":"COUNTIF(★전체!#REF!,\"철도\")","v":{"$error":"#REF!"}},{"$f":"COUNTIF(★전체!#REF!,\"기타\")","v":{"$error":"#REF!"}}]
["강원",{"$error":"#REF!"},{"$f":"COUNTIF(★전체!#REF!,\"도로\")","v":{"$error":"#REF!"}},{"$f":"COUNTIF(★전체!#REF!,\"아파트\")","v":{"$error":"#REF!"}},{"$f":"COUNTIF(★전체!#REF!,\"주택\")","v":{"$error":"#REF!"}},{"$f":"COUNTIF(★전체!#REF!,\"공단\")","v":{"$error":"#REF!"}},{"$f":"COUNTIF(★전체!#REF!,\"공원\")","v":{"$error":"#REF!"}},{"$f":"COUNTIF(★전체!#REF!,\"철도\")","v":{"$error":"#REF!"}},{"$f":"COUNTIF(★전체!#REF!,\"기타\")","v":{"$error":"#REF!"}}]
["충북",{"$error":"#REF!"},{"$f":"COUNTIF(★전체!#REF!,\"도로\")","v":{"$error":"#REF!"}},{"$f":"COUNTIF(★전체!#REF!,\"아파트\")","v":{"$error":"#REF!"}},{"$f":"COUNTIF(★전체!#REF!,\"주택\")","v":{"$error":"#REF!"}},{"$f":"COUNTIF(★전체!#REF!,\"공단\")","v":{"$error":"#REF!"}},{"$f":"COUNTIF(★전체!#REF!,\"공원\")","v":{"$error":"#REF!"}},{"$f":"COUNTIF(★전체!#REF!,\"철도\")","v":{"$error":"#REF!"}},{"$f":"COUNTIF(★전체!#REF!,\"기타\")","v":{"$error":"#REF!"}}]
["충남",{"$error":"#REF!"},{"$f":"COUNTIF(★전체!#REF!,\"도로\")","v":{"$error":"#REF!"}},{"$f":"COUNTIF(★전체!#REF!,\"아파트\")","v":{"$error":"#REF!"}},{"$f":"COUNTIF(★전체!#REF!,\"주택\")","v":{"$error":"#REF!"}},{"$f":"COUNTIF(★전체!#REF!,\"공단\")","v":{"$error":"#REF!"}},{"$f":"COUNTIF(★전체!#REF!,\"공원\")","v":{"$error":"#REF!"}},{"$f":"COUNTIF(★전체!#REF!,\"철도\")","v":{"$error":"#REF!"}},{"$f":"COUNTIF(★전체!#REF!,\"기타\")","v":{"$error":"#REF!"}}]
["전북",{"$error":"#REF!"},{"$f":"COUNTIF(★전체!#REF!,\"도로\")","v":{"$error":"#REF!"}},{"$f":"COUNTIF(★전체!#REF!,\"아파트\")","v":{"$error":"#REF!"}},{"$f":"COUNTIF(★전체!#REF!,\"주택\")","v":{"$error":"#REF!"}},{"$f":"COUNTIF(★전체!#REF!,\"공단\")","v":{"$error":"#REF!"}},{"$f":"COUNTIF(★전체!#REF!,\"공원\")","v":{"$error":"#REF!"}},{"$f":"COUNTIF(★전체!#REF!,\"철도\")","v":{"$error":"#REF!"}},{"$f":"COUNTIF(★전체!#REF!,\"기타\")","v":{"$error":"#REF!"}},{"$nulls":16373},{"$f":"COUNTIF(★전체!#REF!,\"지방산림청\")","v":{"$error":"#REF!"}}]
["전남",{"$error":"#REF!"},{"$f":"COUNTIF(★전체!#REF!,\"도로\")","v":{"$error":"#REF!"}},{"$f":"COUNTIF(★전체!#REF!,\"아파트\")","v":{"$error":"#REF!"}},{"$f":"COUNTIF(★전체!#REF!,\"주택\")","v":{"$error":"#REF!"}},{"$f":"COUNTIF(★전체!#REF!,\"공단\")","v":{"$error":"#REF!"}},{"$f":"COUNTIF(★전체!#REF!,\"공원\")","v":{"$error":"#REF!"}},{"$f":"COUNTIF(★전체!#REF!,\"철도\")","v":{"$error":"#REF!"}},{"$f":"COUNTIF(★전체!#REF!,\"기타\")","v":{"$error":"#REF!"}}]
["경북",{"$error":"#REF!"},{"$f":"COUNTIF(★전체!#REF!,\"도로\")","v":{"$error":"#REF!"}},{"$f":"COUNTIF(★전체!#REF!,\"아파트\")","v":{"$error":"#REF!"}},{"$f":"COUNTIF(★전체!#REF!,\"주택\")","v":{"$error":"#REF!"}},{"$f":"COUNTIF(★전체!#REF!,\"공단\")","v":{"$error":"#REF!"}},{"$f":"COUNTIF(★전체!#REF!,\"공원\")","v":{"$error":"#REF!"}},{"$f":"COUNTIF(★전체!#REF!,\"철도\")","v":{"$error":"#REF!"}},{"$f":"COUNTIF(★전체!#REF!,\"기타\")","v":{"$error":"#REF!"}}]
["경남",{"$error":"#REF!"},{"$f":"COUNTIF(★전체!#REF!,\"도로\")","v":{"$error":"#REF!"}},{"$f":"COUNTIF(★전체!#REF!,\"아파트\")","v":{"$error":"#REF!"}},{"$f":"COUNTIF(★전체!#REF!,\"주택\")","v":{"$error":"#REF!"}},{"$f":"COUNTIF(★전체!#REF!,\"공단\")","v":{"$error":"#REF!"}},{"$f":"COUNTIF(★전체!#REF!,\"공원\")","v":{"$error":"#REF!"}},{"$f":"COUNTIF(★전체!#REF!,\"철도\")","v":{"$error":"#REF!"}},{"$f":"COUNTIF(★전체!#REF!,\"기타\")","v":{"$error":"#REF!"}}]
["제주",{"$error":"#REF!"},{"$f":"COUNTIF(★전체!#REF!,\"도로\")","v":{"$error":"#REF!"}},{"$f":"COUNTIF(★전체!#REF!,\"아파트\")","v":{"$error":"#REF!"}},{"$f":"COUNTIF(★전체!#REF!,\"주택\")","v":{"$error":"#REF!"}},{"$f":"COUNTIF(★전체!#REF!,\"공단\")","v":{"$error":"#REF!"}},{"$f":"COUNTIF(★전체!#REF!,\"공원\")","v":{"$error":"#REF!"}},{"$f":"COUNTIF(★전체!#REF!,\"철도\")","v":{"$error":"#REF!"}},{"$f":"COUNTIF(★전체!#REF!,\"기타\")","v":{"$error":"#REF!"}}]

{"sheet":"급경사지 구조별 현황","index":4,"n_rows":21,"n_cols":16380,"rows_kept":21,"hidden":true,"merged":[[0,0,1,6]]}
["급경사지 관리기관별 현황('18. 12월말 기준)"]
[]
["시도","계","토사","옹벽","석축","암반","복합"]
["총계",{"$f":"SUM(B5:B21)","v":{"$error":"#REF!"}},{"$f":"SUM(C5:C21)","v":{"$error":"#REF!"}},{"$error":"#REF!"},{"$error":"#REF!"},{"$error":"#REF!"},{"$error":"#REF!"}]
["서울",{"$f":"SUM(C5:G5)","v":0},{"$f":"COUNTIF(★전체!$I$7:$I$8,\"토사\")","v":0},{"$f":"COUNTIF(★전체!$I$7:$I$8,\"옹벽\")","v":0},{"$f":"COUNTIF(★전체!$I$7:$I$8,\"석축\")","v":0},{"$f":"COUNTIF(★전체!$I$7:$I$8,\"암반\")","v":0},{"$f":"COUNTIF(★전체!$I$7:$I$8,\"복합\")","v":0}]
["부산",{"$error":"#REF!"},{"$f":"COUNTIF(★전체!#REF!,\"토사\")","v":{"$error":"#REF!"}},{"$f":"COUNTIF(★전체!#REF!,\"옹벽\")","v":{"$error":"#REF!"}},{"$f":"COUNTIF(★전체!#REF!,\"석축\")","v":{"$error":"#REF!"}},{"$f":"COUNTIF(★전체!#REF!,\"암반\")","v":{"$error":"#REF!"}},{"$f":"COUNTIF(★전체!#REF!,\"복합\")","v":{"$error":"#REF!"}}]
["대구",{"$error":"#REF!"},{"$f":"COUNTIF(★전체!#REF!,\"토사\")","v":{"$error":"#REF!"}},{"$f":"COUNTIF(★전체!#REF!,\"옹벽\")","v":{"$error":"#REF!"}},{"$f":"COUNTIF(★전체!#REF!,\"석축\")","v":{"$error":"#REF!"}},{"$f":"COUNTIF(★전체!#REF!,\"암반\")","v":{"$error":"#REF!"}},{"$f":"COUNTIF(★전체!#REF!,\"복합\")","v":{"$error":"#REF!"}}]
["인천",{"$error":"#REF!"},{"$f":"COUNTIF(★전체!#REF!,\"토사\")","v":{"$error":"#REF!"}},{"$f":"COUNTIF(★전체!#REF!,\"옹벽\")","v":{"$error":"#REF!"}},{"$f":"COUNTIF(★전체!#REF!,\"석축\")","v":{"$error":"#REF!"}},{"$f":"COUNTIF(★전체!#REF!,\"암반\")","v":{"$error":"#REF!"}},{"$f":"COUNTIF(★전체!#REF!,\"복합\")","v":{"$error":"#REF!"}}]
["광주",{"$error":"#REF!"},{"$f":"COUNTIF(★전체!#REF!,\"토사\")","v":{"$error":"#REF!"}},{"$f":"COUNTIF(★전체!#REF!,\"옹벽\")","v":{"$error":"#REF!"}},{"$f":"COUNTIF(★전체!#REF!,\"석축\")","v":{"$error":"#REF!"}},{"$f":"COUNTIF(★전체!#REF!,\"암반\")","v":{"$error":"#REF!"}},{"$f":"COUNTIF(★전체!#REF!,\"복합\")","v":{"$error":"#REF!"}}]
["대전",{"$error":"#REF!"},{"$f":"COUNTIF(★전체!#REF!,\"토사\")","v":{"$error":"#REF!"}},{"$f":"COUNTIF(★전체!#REF!,\"옹벽\")","v":{"$error":"#REF!"}},{"$f":"COUNTIF(★전체!#REF!,\"석축\")","v":{"$error":"#REF!"}},{"$f":"COUNTIF(★전체!#REF!,\"암반\")","v":{"$error":"#REF!"}},{"$f":"COUNTIF(★전체!#REF!,\"복합\")","v":{"$error":"#REF!"}}]
["울산",{"$error":"#REF!"},{"$f":"COUNTIF(★전체!#REF!,\"토사\")","v":{"$error":"#REF!"}},{"$f":"COUNTIF(★전체!#REF!,\"옹벽\")","v":{"$error":"#REF!"}},{"$f":"COUNTIF(★전체!#REF!,\"석축\")","v":{"$error":"#REF!"}},{"$f":"COUNTIF(★전체!#REF!,\"암반\")","v":{"$error":"#REF!"}},{"$f":"COUNTIF(★전체!#REF!,\"복합\")","v":{"$error":"#REF!"}}]
["세종",{"$error":"#REF!"},{"$f":"COUNTIF(★전체!#REF!,\"토사\")","v":{"$error":"#REF!"}},{"$f":"COUNTIF(★전체!#REF!,\"옹벽\")","v":{"$error":"#REF!"}},{"$f":"COUNTIF(★전체!#REF!,\"석축\")","v":{"$error":"#REF!"}},{"$f":"COUNTIF(★전체!#REF!,\"암반\")","v":{"$error":"#REF!"}},{"$f":"COUNTIF(★전체!#REF!,\"복합\")","v":{"$error":"#REF!"}}]
["경기",{"$error":"#REF!"},{"$f":"COUNTIF(★전체!#REF!,\"토사\")","v":{"$error":"#REF!"}},{"$f":"COUNTIF(★전체!#REF!,\"옹벽\")","v":{"$error":"#REF!"}},{"$f":"COUNTIF(★전체!#REF!,\"석축\")","v":{"$error":"#REF!"}},{"$f":"COUNTIF(★전체!#REF!,\"암반\")","v":{"$error":"#REF!"}},{"$f":"COUNTIF(★전체!#REF!,\"복합\")","v":{"$error":"#REF!"}}]
["강원",{"$error":"#REF!"},{"$f":"COUNTIF(★전체!#REF!,\"토사\")","v":{"$error":"#REF!"}},{"$f":"COUNTIF(★전체!#REF!,\"옹벽\")","v":{"$error":"#REF!"}},{"$f":"COUNTIF(★전체!#REF!,\"석축\")","v":{"$error":"#REF!"}},{"$f":"COUNTIF(★전체!#REF!,\"암반\")","v":{"$error":"#REF!"}},{"$f":"COUNTIF(★전체!#REF!,\"복합\")","v":{"$error":"#REF!"}}]
["충북",{"$error":"#REF!"},{"$f":"COUNTIF(★전체!#REF!,\"토사\")","v":{"$error":"#REF!"}},{"$f":"COUNTIF(★전체!#REF!,\"옹벽\")","v":{"$error":"#REF!"}},{"$f":"COUNTIF(★전체!#REF!,\"석축\")","v":{"$error":"#REF!"}},{"$f":"COUNTIF(★전체!#REF!,\"암반\")","v":{"$error":"#REF!"}},{"$f":"COUNTIF(★전체!#REF!,\"복합\")","v":{"$error":"#REF!"}}]
["충남",{"$error":"#REF!"},{"$f":"COUNTIF(★전체!#REF!,\"토사\")","v":{"$error":"#REF!"}},{"$f":"COUNTIF(★전체!#REF!,\"옹벽\")","v":{"$error":"#REF!"}},{"$f":"COUNTIF(★전체!#REF!,\"석축\")","v":{"$error":"#REF!"}},{"$f":"COUNTIF(★전체!#REF!,\"암반\")","v":{"$error":"#REF!"}},{"$f":"COUNTIF(★전체!#REF!,\"복합\")","v":{"$error":"#REF!"}}]
["전북",{"$error":"#REF!"},{"$f":"COUNTIF(★전체!#REF!,\"토사\")","v":{"$error":"#REF!"}},{"$f":"COUNTIF(★전체!#REF!,\"옹벽\")","v":{"$error":"#REF!"}},{"$f":"COUNTIF(★전체!#REF!,\"석축\")","v":{"$error":"#REF!"}},{"$f":"COUNTIF(★전체!#REF!,\"암반\")","v":{"$error":"#REF!"}},{"$f":"COUNTIF(★전체!#REF!,\"복합\")","v":{"$error":"#REF!"}},{"$nulls":16372},{"$f":"COUNTIF(★전체!#REF!,\"지방산림청\")","v":{"$error":"#REF!"}}]
["전남",{"$error":"#REF!"},{"$f":"COUNTIF(★전체!#REF!,\"토사\")","v":{"$error":"#REF!"}},{"$f":"COUNTIF(★전체!#REF!,\"옹벽\")","v":{"$error":"#REF!"}},{"$f":"COUNTIF(★전체!#REF!,\"석축\")","v":{"$error":"#REF!"}},{"$f":"COUNTIF(★전체!#REF!,\"암반\")","v":{"$error":"#REF!"}},{"$f":"COUNTIF(★전체!#REF!,\"복합\")","v":{"$error":"#REF!"}}]
["경북",{"$error":"#REF!"},{"$f":"COUNTIF(★전체!#REF!,\"토사\")","v":{"$error":"#REF!"}},{"$f":"COUNTIF(★전체!#REF!,\"옹벽\")","v":{"$error":"#REF!"}},{"$f":"COUNTIF(★전체!#REF!,\"석축\")","v":{"$error":"#REF!"}},{"$f":"COUNTIF(★전체!#REF!,\"암반\")","v":{"$error":"#REF!"}},{"$f":"COUNTIF(★전체!#REF!,\"복합\")","v":{"$error":"#REF!"}}]
["경남",{"$error":"#REF!"},{"$f":"COUNTIF(★전체!#REF!,\"토사\")","v":{"$error":"#REF!"}},{"$f":"COUNTIF(★전체!#REF!,\"옹벽\")","v":{"$error":"#REF!"}},{"$f":"COUNTIF(★전체!#REF!,\"석축\")","v":{"$error":"#REF!"}},{"$f":"COUNTIF(★전체!#REF!,\"암반\")","v":{"$error":"#REF!"}},{"$f":"COUNTIF(★전체!#REF!,\"복합\")","v":{"$error":"#REF!"}}]
["제주",{"$error":"#REF!"},{"$f":"COUNTIF(★전체!#REF!,\"토사\")","v":{"$error":"#REF!"}},{"$f":"COUNTIF(★전체!#REF!,\"옹벽\")","v":{"$error":"#REF!"}},{"$f":"COUNTIF(★전체!#REF!,\"석축\")","v":{"$error":"#REF!"}},{"$f":"COUNTIF(★전체!#REF!,\"암반\")","v":{"$error":"#REF!"}},{"$f":"COUNTIF(★전체!#REF!,\"복합\")","v":{"$error":"#REF!"}}]

{"sheet":"급경사지 유형별 현황","index":5,"n_rows":22,"n_cols":16383,"rows_kept":22,"hidden":true,"merged":[[0,0,1,10],[2,0,3,0],[2,1,2,3],[2,4,2,6],[2,7,2,9],[2,10,3,10]]}
["급경사지 관리기관별 현황('18. 12월말 기준)"]
[]
["시도","합계",null,null,"자연비탈면",null,null,"인공비탈면",null,null,"비고"]
[null,"소계","공공","민간","소계","공공","민간","소계","공공","민간"]
["계",{"$f":"SUM(B6:B22)","v":{"v":15075,"d":"15,075"}},{"$f":"SUM(C6:C22)","v":{"v":12693,"d":"12,693"}},{"v":2382,"d":"2,382"},{"v":2660,"d":"2,660"},{"v":2299,"d":"2,299"},361,{"$f":"SUM(H6:H22)","v":{"v":12415,"d":"12,415"}},{"$f":"SUM(I6:I22)","v":{"v":10394,"d":"10,394"}},{"$f":"SUM(J6:J22)","v":{"v":2021,"d":"2,021"}}]
["서울",{"$f":"C6+D6","v":889},{"$f":"F6+I6","v":489},{"$f":"G6+J6","v":400},{"$f":"F6+G6","v":57},33,24,{"$f":"I6+J6","v":832},456,376]
["부산",{"$f":"C7+D7","v":704},{"$f":"F7+I7","v":385},{"$f":"G7+J7","v":319},{"$f":"F7+G7","v":119},61,58,{"$f":"I7+J7","v":585},324,261]
["대구",186,131,55,21,19,2,165,112,53]
["인천",247,114,133,34,18,16,213,96,117]
["광주",157,93,64,2,2,null,155,91,64]
["대전",198,165,33,{"$f":"F11+G11","v":4},null,4,194,165,29]
["울산",466,420,46,21,19,2,445,401,44]
["세종",83,75,8,5,3,2,78,72,6]
["경기",{"v":1097,"d":"1,097"},758,339,80,54,26,{"v":1017,"d":"1,017"},704,313]
["강원",{"v":2342,"d":"2,342"},{"v":2238,"d":"2,238"},104,523,479,44,{"v":1819,"d":"1,819"},{"v":1759,"d":"1,759"},60]
["충북",{"v":1410,"d":"1,410"},{"v":1145,"d":"1,145"},265,185,130,55,{"v":1225,"d":"1,225"},{"v":1015,"d":"1,015"},210]
["충남",333,262,71,76,50,26,257,212,45]
["전북",{"v":1149,"d":"1,149"},{"v":1044,"d":"1,044"},105,174,162,12,975,882,93,{"$nulls":16372},{"$f":"COUNTIF(★전체!#REF!,\"지방산림청\")","v":{"$error":"#REF!"}}]
["전남",{"v":1296,"d":"1,296"},{"v":1129,"d":"1,129"},167,339,271,68,957,858,99]
["경북",{"v":1542,"d":"1,542"},{"v":1507,"d":"1,507"},35,443,439,4,{"v":1099,"d":"1,099"},{"v":1068,"d":"1,068"},31]
["경남",{"v":2939,"d":"2,939"},{"v":2703,"d":"2,703"},236,562,544,18,{"v":2377,"d":"2,377"},{"v":2159,"d":"2,159"},218]
["제주",37,35,2,15,15,null,22,20,2]

{"sheet":"붕괴위험지역 정비사업 현황","index":6,"n_rows":37,"n_cols":16383,"rows_kept":37,"hidden":true,"merged":[[0,0,1,10],[2,0,4,0],[2,1,4,1],[2,2,2,10],[3,2,4,2],[3,3,3,6],[3,7,3,10]]}
["급경사지 관리기관별 현황('18. 12월말 기준)"]
[]
["시도","급경사지\n현황","급경사지 붕괴위험지역 지정(고시) 현황"]
[null,null,"계\n(1+2)","공공시설",{"$nulls":3},"민간시설"]
[{"$nulls":3},"소계","정비완료","정비중","정비예정","소계","정비완료","정비중","정비예정"]
["계",{"v":15075,"d":"15,075"},{"$f":"SUM(C7:C23)","v":0},{"$f":"SUM(D7:D23)","v":0},{"$f":"SUM(E7:E23)","v":0},0,0,{"$f":"SUM(H7:H23)","v":0},{"$f":"SUM(I7:I23)","v":0},0,0]
["서울",889,{"$f":"D7+H7","v":0},{"$f":"E7+F7+G7","v":0},{"$nulls":3},{"$f":"I7+J7+K7","v":0}]
["부산",704,{"$f":"D8+H8","v":0},{"$f":"E8+F8+G8","v":0},{"$nulls":3},{"$f":"I8+J8+K8","v":0}]
["대구",186,0,0,{"$nulls":3},0]
["인천",247,0,0,{"$nulls":3},0]
["광주",157,0,0,{"$nulls":3},0]
["대전",198,0,0,{"$nulls":3},0]
["울산",466,0,0,{"$nulls":3},0]
["세종",83,0,0,{"$nulls":3},0]
["경기",{"v":1097,"d":"1,097"},0,0,{"$nulls":3},0]
["강원",{"v":2342,"d":"2,342"},0,0,{"$nulls":3},0]
["충북",{"v":1410,"d":"1,410"},0,0,{"$nulls":3},0]
["충남",333,0,0,{"$nulls":3},0]
["전북",{"v":1149,"d":"1,149"},0,0,{"$nulls":3},0,{"$nulls":16374},{"$f":"COUNTIF(★전체!#REF!,\"지방산림청\")","v":{"$error":"#REF!"}}]
["전남",{"v":1296,"d":"1,296"},0,0,{"$nulls":3},0]
["경북",{"v":1542,"d":"1,542"},0,0,{"$nulls":3},0]
["경남",{"v":2939,"d":"2,939"},0,0,{"$nulls":3},0]
["제주",37,0,0,{"$nulls":3},0]
{"$rows_empty":12}
[null,null,185,{"$nulls":5},93,166206,{"$nulls":5},79]
[{"$nulls":9},83103]

{"sheet":"붕괴위험지역 정비사업 대상","index":7,"n_rows":39,"n_cols":16372,"rows_kept":39,"hidden":true,"merged":[[1,0,3,0],[1,1,3,1],[1,2,1,3],[1,4,1,5],[1,6,1,7],[1,8,1,9],[4,0,5,0],[4,1,5,1],[4,4,5,4],[6,0,7,0],[6,1,7,1],[6,4,7,4],[6,8,7,8],[8,0,9,0],[8,1,9,1],[8,4,9,4],[8,8,9,8],[11,0,12,0],[11,1,12,1],[11,4,12,4],[11,8,12,8],[13,0,14,0],[13,1,14,1],[13,4,14,4],[13,8,14,8],[15,0,16,0],[15,4,16,4],[15,8,16,8],[17,0,18,0],[17,1,18,1],[17,4,18,4],[17,8,18,8],[19,0,20,0],[19,1,20,1],[19,4,20,4],[19,8,20,8],[21,0,22,0],[21,1,22,1],[21,4,22,4],[21,8,22,8],[23,0,24,0],[23,1,24,1],[23,4,24,4],[23,8,24,8],[25,0,26,0],[25,1,26,1],[25,4,26,4],[25,8,26,8],[27,0,28,0],[27,1,28,1],[27,4,28,4],[27,8,28,8],[29,0,30,0],[29,1,30,1],[29,4,30,4],[29,8,30,8],[31,0,32,0],[31,1,32,1],[31,4,32,4],[31,8,32,8],[33,0,34,0],[33,1,34,1],[33,4,34,4],[33,8,34,8],[35,0,36,0],[35,1,36,1],[35,4,36,4],[35,8,36,8],[37,0,38,0],[37,1,38,1],[37,4,38,4],[37,8,38,8]]}
[{"$nulls":6},{"$f":"G7+G9+G11+G12+G14+G16+G18+G20+G22+G24+G26+G28+G30+G32+G34+G36+G38","v":141}]
["시도별","급경사지\n현황","정비대상",null,"2018년까지",null,"2019년 추진",null,"2020년 이후"]
[null,null,"완료",{"v":627,"d":"627개소"},"완료",{"$f":"E5","v":{"v":627,"d":"627개소"}},"완료예정",{"$f":"G6","v":{"v":43,"d":"43개소"}},"잔량",{"$f":"I5","v":{"v":868,"d":"868개소"}}]
[null,null,"사업량\n(완료)","사업비\n(국비)","사업량","사업비\n(국비)","사업량\n(완료예정)","사업비\n(국비)","사업량\n* 계속사업포함","사업비\n(국비)",{"$f":"M4+O4","v":0}]
["계",{"v":15075,"d":"15,075"},{"$f":"C7+C9+C12+C14+C16+C18+C20+C22+C24+C26+C28+C30+C32+C34+C36+C38","v":{"v":1565,"d":"1,565"}},{"$f":"D7+D9+D11+D12+D14+D16+D18+D20+D22+D24+D26+D28+D30+D32+D34+D36+D38","v":{"v":2240781,"d":"2,240,781"}},{"$f":"E7+E9+E12+E14+E16+E18+E20+E22+E24+E26+E28+E30+E32+E34+E36+E38","v":627},{"$f":"F7+F9+F11+F12+F14+F16+F18+F20+F22+F24+F28+F30+F32+F34+F36+F38+F26","v":{"v":875561,"d":"875,561"}},{"$f":"G7+G9+G11+G12+G14+G16+G18+G20+G22+G24+G28+G30+G32+G34+G36+G38+G26","v":141},{"$f":"H7+H9+H11+H12+H14+H16+H18+H20+H22+H24+H28+H30+H32+H34+H36+H38+H26","v":{"v":169332,"d":"169,332"}},{"$f":"I7+I9+I11+I12+I14+I16+I18+I20+I22+I24+I28+I30+I32+I34+I36+I38+I26","v":868},{"$f":"J7+J9+J11+J12+J14+J16+J18+J20+J22+J24+J28+J30+J32+J34+J36+J38+J26","v":{"v":1195888,"d":"1,195,888"}}]
[null,null,{"$f":"C8+C10+C13+C15+C17+C19+C21+C23+C25+C27+C29+C31+C33+C35+C37+C39","v":627},{"$f":"ROUNDUP(D8+D10+D13+D15+D17+D19+D21+D23+D25+D27+D29+D31+D33+D35+D37+D39,0)","v":{"v":1073538,"d":"1,073,538"}},null,{"$f":"F8+F10+F13+F15+F17+F19+F21+F23+F25+F27+F29+F31+F33+F35+F37+F39","v":{"v":394284,"d":"394,284"}},43,{"$f":"H8+H10+H13+H15+H17+H19+H21+H23+H25+H27+H29+H31+H33+H35+H37+H39","v":{"v":84666,"d":"84,666"}},null,{"$f":"J8+J10+J13+J15+J17+J19+J21+J23+J25+J27+J29+J31+J33+J35+J37+J39","v":{"v":594588,"d":"594,588"}}]
["서울",889,7,{"$f":"F7+H7+J7","v":{"v":6907,"d":"6,907"}},6,{"v":6907,"d":"6,907"},0,0,1,0]
[null,null,6,870,null,870]
["부산",704,10,{"v":25429,"d":"25,429"},10,{"v":25429,"d":"25,429"},0,0,null,0]
[null,null,10,{"v":12698,"d":"12,698"},null,{"v":12698,"d":"12,698"},0,0,null,0]
["대구",186,"없음",0,"없음"]
["인천",247,3,{"v":1414,"d":"1,414"},3,{"v":1414,"d":"1,414"},0,0,null,0]
[null,null,3,0]
["광주",157,11,{"v":6610,"d":"6,610"},8,{"v":5550,"d":"5,550"},null,null,3,{"v":1060,"d":"1,060"}]
[null,null,8,{"v":3105,"d":"3,105"},null,{"v":2775,"d":"2,775"},{"$nulls":3},330]
["대전",198,1,300,1,300]
[null,null,1,0]
["울산",466,2,{"v":4000,"d":"4,000"},2,{"v":4000,"d":"4,000"}]
[null,null,2,{"v":2000,"d":"2,000"},null,{"v":2000,"d":"2,000"}]
["세종",83,1,{"v":4000,"d":"4,000"},null,0,1,{"v":1000,"d":"1,000"},1,{"v":3000,"d":"3,000"}]
[{"$nulls":3},{"v":2000,"d":"2,000"},{"$nulls":3},500,null,{"v":1500,"d":"1,500"}]
["경기",{"v":1097,"d":"1,097"},89,{"v":43474,"d":"43,474"},70,{"v":29373,"d":"29,373"},2,{"v":2518,"d":"2,518"},18,{"v":11583,"d":"11,583"}]
[null,null,70,{"v":19339.5,"d":"19,340"},null,{"v":13169,"d":"13,169"},1,{"v":1259,"d":"1,259"},null,{"v":4911.5,"d":"4,912"}]
["강원",{"v":2342,"d":"2,342"},363,{"v":623923,"d":"623,923"},133,{"v":246722,"d":"246,722"},33,{"v":39822,"d":"39,822"},211,{"v":337379,"d":"337,379"}]
[null,null,133,{"v":309246.5,"d":"309,247"},null,{"v":120671,"d":"120,671"},19,{"v":19911,"d":"19,911"},null,{"v":168664.5,"d":"168,665"}]
["충북",{"v":1410,"d":"1,410"},188,{"$f":"F26+H26+J26","v":{"v":184016,"d":"184,016"}},74,{"v":63756,"d":"63,756"},12,{"v":10680,"d":"10,680"},109,{"v":109580,"d":"109,580"}]
[null,null,74,{"v":86347,"d":"86,347"},null,{"v":26517,"d":"26,517"},5,{"v":5340,"d":"5,340"},null,{"v":54490,"d":"54,490"}]
["충남",333,87,{"v":78167,"d":"78,167"},32,{"v":32369,"d":"32,369"},13,{"v":9628,"d":"9,628"},48,{"v":36170,"d":"36,170"}]
[null,null,32,{"v":37573,"d":"37,573"},null,{"v":14949,"d":"14,949"},7,{"v":4814,"d":"4,814"},null,{"v":17810,"d":"17,810"}]
["전북",{"v":1149,"d":"1,149"},107,{"v":192512,"d":"192,512"},47,{"v":76254,"d":"76,254"},17,{"v":18960,"d":"18,960"},55,{"v":97298,"d":"97,298"}]
[null,null,47,{"v":90901,"d":"90,901"},null,{"v":33692,"d":"33,692"},5,{"v":9480,"d":"9,480"},null,{"v":47729,"d":"47,729"}]
["전남",{"v":1296,"d":"1,296"},337,{"v":456081,"d":"456,081"},90,{"v":125055,"d":"125,055"},27,{"v":32316,"d":"32,316"},230,{"v":298710,"d":"298,710"}]
[null,null,90,{"v":219814,"d":"219,814"},null,{"v":54507,"d":"54,507"},17,{"v":16158,"d":"16,158"},null,{"v":149149,"d":"149,149"}]
["경북",{"v":1542,"d":"1,542"},160,{"v":239773,"d":"239,773"},56,{"v":85241,"d":"85,241"},13,{"v":22530,"d":"22,530"},96,{"v":132002,"d":"132,002"},{"$nulls":16361},{"$f":"COUNTIF(★전체!#REF!,\"지방산림청\")","v":{"$error":"#REF!"}}]
[null,null,56,{"v":108522,"d":"108,522"},null,{"v":31556,"d":"31,556"},8,{"v":11265,"d":"11,265"},null,{"v":65701,"d":"65,701"}]
["경남",{"v":2939,"d":"2,939"},185,{"v":331825,"d":"331,825"},85,{"v":139017,"d":"139,017"},20,{"v":26102,"d":"26,102"},94,{"v":166706,"d":"166,706"},{"$nulls":5},79]
[null,null,85,{"v":162447,"d":"162,447"},null,{"v":66293,"d":"66,293"},6,{"v":13051,"d":"13,051"},null,{"v":83103,"d":"83,103"}]
["제주",37,14,{"v":42350,"d":"42,350"},10,{"v":34174,"d":"34,174"},3,{"v":5776,"d":"5,776"},2,{"v":2400,"d":"2,400"}]
[null,null,10,{"v":18675,"d":"18,675"},null,{"v":14587,"d":"14,587"},2,{"v":2888,"d":"2,888"},null,{"v":1200,"d":"1,200"}]

{"sheet":"★전체","index":8,"n_rows":8,"n_cols":37,"rows_kept":8,"merged":[[0,1,0,36],[3,0,3,15],[3,16,4,19],[3,20,4,21],[3,22,4,24],[3,25,4,27],[3,28,4,32],[3,33,4,35],[3,36,5,36],[4,0,5,0],[4,1,4,5],[4,6,4,7],[4,8,4,9],[4,10,4,12],[4,13,4,15]]}
["붙임4","2022년도 급경사지 안전관리 대책 추진 대상 급경사지"]
[]
[]
["① 우기대비 급경사지 안전관리대책 추진대상",{"$nulls":15},"② 합동점검",{"$nulls":3},"③ DB 현행화",null,"④ 결과 공개",null,null,"⑤ 점검 결과",null,null,"⑥ 후속 조치",{"$nulls":4},"⑦ 담당현황",null,null,"비고"]
["지구명","위    치",{"$nulls":4},"용  도",null,"분  류",null,"제    원",null,null,"관리기관"]
[null,"시·도","시.군.구","읍·면·동","리·동","지번","용도","기타상세","유형","구조","길이","높이","평균경사","관리기관","소유자·점유자, 관계인","공공/민간","점검자\n(공무원,공사·공단)","전문가\n(민간전문가 등)","점검 시작일\n(YYYY-MM-DD)","점검 종료일\n(YYYY-MM-DD)","NDMS 관리번호\n(급경사지 정보시스템)","급경사지 정보시스템\n점검결과 입력일\n(YYYY-MM-DD)","공개여부","유형","공개일","조치 유형(대책)","조치 유형(소요기간)","주요 지적사항(내용)","진행상황","소요예산\n(백만원)","재원 유형","확보시기","완료시기","부서명","담당자","전화번호"]
["산정4지구","전남도","목포시",null,"산정동",994,"공원",null,"인공","암반",200,55,75,"지자체","목포시 공원녹지과","공공","방재팀장 외 1명","민간저문가 2인","2022-05-17","2022-06-24",4611000015,"2022-04-25","공개","홈페이지","2022-07-17","보수·보강","중·장기조치",{"$nulls":6},"공원녹지과","주선우","061-270-3423"]
["목원3지구","전남도","목포시",null,"무안동","10-35","공원",null,"인공","암반",190,25,70,"지자체","목포시 공원녹지과","공공","방재팀장 외 4명","민간저문가 2인","2022-05-17","2022-06-24",4611000073,"2022-04-25","공개","홈페이지","2022-07-17","보수·보강","중·장기조치",{"$nulls":6},"공원녹지과","주선우","061-270-3423"]

{"sheet":"Sheet1","index":9,"n_rows":0,"n_cols":0,"rows_kept":0}